BEGIN:VCALENDAR
VERSION:2.0
PRODID:-//wp-events-plugin.com//7.2.3.1//EN
TZID:Europe/Berlin
X-WR-TIMEZONE:Europe/Berlin
BEGIN:VEVENT
UID:91@tus-nordenstadt-fussball.de
DTSTART;TZID=Europe/Berlin:20250109T140000
DTEND;TZID=Europe/Berlin:20250112T190000
DTSTAMP:20250108T065018Z
URL:https://www.tus-nordenstadt-fussball.de/events/hallenturnier-2025-in-d
 er-taunushalle/
SUMMARY:Hallenturnier 2025 in der Taunushalle
DESCRIPTION:
CATEGORIES:Erste Manschaft
LOCATION:Taunushalle Nordenstadt\, Heerstraße 60\, Wiesbaden\, Hessen\, 65
 205\, Deutschland
GEO:50.065306;8.335675600000059
X-APPLE-STRUCTURED-LOCATION;VALUE=URI;X-ADDRESS=Heerstraße 60\, Wiesbaden\
 , Hessen\, 65205\, Deutschland;X-APPLE-RADIUS=100;X-TITLE=Taunushalle Nord
 enstadt:geo:50.065306,8.335675600000059
END:VEVENT
BEGIN:VTIMEZONE
TZID:Europe/Berlin
X-LIC-LOCATION:Europe/Berlin
BEGIN:STANDARD
DTSTART:20241027T020000
TZOFFSETFROM:+0200
TZOFFSETTO:+0100
TZNAME:CET
END:STANDARD
END:VTIMEZONE
END:VCALENDAR