BEGIN:VCALENDAR
VERSION:2.0
PRODID:-//wp-events-plugin.com//7.2.3.1//EN
TZID:Europe/Berlin
X-WR-TIMEZONE:Europe/Berlin
BEGIN:VEVENT
UID:92@tus-nordenstadt-fussball.de
DTSTART;TZID=Europe/Berlin:20250506T193000
DTEND;TZID=Europe/Berlin:20250506T223000
DTSTAMP:20250403T212533Z
URL:https://www.tus-nordenstadt-fussball.de/events/fachschaftsversammlung-
 fussball/
SUMMARY:Fachschaftsversammlung Fussball
DESCRIPTION:
CATEGORIES:Erste Manschaft,Weinstand
LOCATION:Sportlerklause\, Oppelner Str.1\, Wiesbaden\, 65205\, Deutschland
GEO:50.072922;8.335466
X-APPLE-STRUCTURED-LOCATION;VALUE=URI;X-ADDRESS=Oppelner Str.1\, Wiesbaden\
 , 65205\, Deutschland;X-APPLE-RADIUS=100;X-TITLE=Sportlerklause:geo:50.072
 922,8.335466
END:VEVENT
BEGIN:VTIMEZONE
TZID:Europe/Berlin
X-LIC-LOCATION:Europe/Berlin
BEGIN:DAYLIGHT
DTSTART:20250330T030000
TZOFFSETFROM:+0100
TZOFFSETTO:+0200
TZNAME:CEST
END:DAYLIGHT
END:VTIMEZONE
END:VCALENDAR